BEGIN:VCALENDAR
VERSION:2.0
PRODID:-//Beachside Church - ECPv6.6.4.2//NONSGML v1.0//EN
CALSCALE:GREGORIAN
METHOD:PUBLISH
X-ORIGINAL-URL:https://beachside.org
X-WR-CALDESC:Events for Beachside Church
REFRESH-INTERVAL;VALUE=DURATION:PT1H
X-Robots-Tag:noindex
X-PUBLISHED-TTL:PT1H
BEGIN:VTIMEZONE
TZID:America/New_York
BEGIN:DAYLIGHT
TZOFFSETFROM:-0500
TZOFFSETTO:-0400
TZNAME:EDT
DTSTART:20170312T070000
END:DAYLIGHT
BEGIN:STANDARD
TZOFFSETFROM:-0400
TZOFFSETTO:-0500
TZNAME:EST
DTSTART:20171105T060000
END:STANDARD
END:VTIMEZONE
BEGIN:VEVENT
DTSTART;TZID=America/New_York:20171001T160000
DTEND;TZID=America/New_York:20171001T180000
DTSTAMP:20260425T053809
CREATED:20161004T133257Z
LAST-MODIFIED:20170912T151316Z
UID:788-1506873600-1506880800@beachside.org
SUMMARY:Palm Trees & Pumpkins
DESCRIPTION:Are you looking for an opportunity to meet and connect with people outside of a Sunday morning environment? Join us for Palm Trees & Pumpkins\, a Beachside Fall Gathering\, on Sunday\, October 1 from 4:00pm-6:00pm at Beasley Park on Okaloosa Island! \nWe’ll have fall-themed games\, snacks and drinks\, and activities for all ages. And of course\, pumpkins on the beach! \nThis event is for everyone so bring your family and friends\, your small group\, or invite that friend you’ve been investing in and we’ll see you there!
URL:https://beachside.org/event/palm-trees-pumpkins/
LOCATION:Beasley Park\, Okaloosa Island\, 1550 Miracle Strip Parkway\, Fort Walton Beach\, 32548\, United States
ATTACH;FMTTYPE=image/png:https://beachside.org/wp-content/uploads/2017/09/palm-trees-and-pumkins-17-01.png
END:VEVENT
END:VCALENDAR