BEGIN:VCALENDAR
VERSION:2.0
PRODID:-//Beachside Church - ECPv6.6.4.2//NONSGML v1.0//EN
CALSCALE:GREGORIAN
METHOD:PUBLISH
X-WR-CALNAME:Beachside Church
X-ORIGINAL-URL:https://beachside.org
X-WR-CALDESC:Events for Beachside Church
REFRESH-INTERVAL;VALUE=DURATION:PT1H
X-Robots-Tag:noindex
X-PUBLISHED-TTL:PT1H
BEGIN:VTIMEZONE
TZID:America/New_York
BEGIN:DAYLIGHT
TZOFFSETFROM:-0500
TZOFFSETTO:-0400
TZNAME:EDT
DTSTART:20170312T070000
END:DAYLIGHT
BEGIN:STANDARD
TZOFFSETFROM:-0400
TZOFFSETTO:-0500
TZNAME:EST
DTSTART:20171105T060000
END:STANDARD
END:VTIMEZONE
BEGIN:VEVENT
DTSTART;TZID=America/New_York:20170728T183000
DTEND;TZID=America/New_York:20170728T210000
DTSTAMP:20260425T103314
CREATED:20170704T012417Z
LAST-MODIFIED:20170704T012530Z
UID:958-1501266600-1501275600@beachside.org
SUMMARY:Summer Movie Night
DESCRIPTION:Looking for an opportunity to connect with others outside of Sunday morning? Join us Friday\, July 28th at 6:30pm for a Summer Movie Night! Bring a chair or blanket and set up a spot inside our Auditorium. We will be showing Disney’s Big Hero 6! Popcorn\, candy and drinks will be provided. Don’t miss out on the fun!
URL:https://beachside.org/event/summer-movie-night/
LOCATION:Beachside Community Church\, 200 Racetrack Road\, Fort Walton Beach\, FL\, 32547\, United States
ATTACH;FMTTYPE=image/png:https://beachside.org/wp-content/uploads/2017/07/Movie-Night-V1-01.png
END:VEVENT
END:VCALENDAR