BEGIN:VCALENDAR
VERSION:2.0
PRODID:-//Beachside Church - ECPv6.6.4.2//NONSGML v1.0//EN
CALSCALE:GREGORIAN
METHOD:PUBLISH
X-ORIGINAL-URL:https://beachside.org
X-WR-CALDESC:Events for Beachside Church
REFRESH-INTERVAL;VALUE=DURATION:PT1H
X-Robots-Tag:noindex
X-PUBLISHED-TTL:PT1H
BEGIN:VTIMEZONE
TZID:America/Chicago
BEGIN:DAYLIGHT
TZOFFSETFROM:-0600
TZOFFSETTO:-0500
TZNAME:CDT
DTSTART:20210314T080000
END:DAYLIGHT
BEGIN:STANDARD
TZOFFSETFROM:-0500
TZOFFSETTO:-0600
TZNAME:CST
DTSTART:20211107T070000
END:STANDARD
END:VTIMEZONE
BEGIN:VEVENT
DTSTART;TZID=America/Chicago:20210609T173000
DTEND;TZID=America/Chicago:20210609T193000
DTSTAMP:20260424T053907
CREATED:20210602T184856Z
LAST-MODIFIED:20210602T185008Z
UID:2139-1623259800-1623267000@beachside.org
SUMMARY:Serve Day | Food For Thought
DESCRIPTION:Details\n\n\nFood For Thought is a 501(c)(3) not-for-profit organization based in Santa Rosa Beach\, FL that provides backpacks filled with healthy\, easy to prepare food for students who are dependent on free or reduced school meals. Our goal is to support a child’s development and educational experience by bridging the gap between school meals during weekends and holiday breaks. Food For Thought has been working to fight child hunger since 2010\, and currently serves 32 schools in Walton and Okaloosa Counties\, providing backpacks for 3\,300 students each week.  If you would like to participate with FFT fill out this Volunteer Waiver Form.  Masks are required at their location. \nWork Day Project:\n\nSummer curbside food bag packing.\nMulching
URL:https://beachside.org/event/serve-day-food-for-thought/
LOCATION:FL
ATTACH;FMTTYPE=image/png:https://beachside.org/wp-content/uploads/2021/06/servedayFFT-02.png
END:VEVENT
END:VCALENDAR